BEGIN:VCALENDAR
VERSION:2.0
PRODID:-//Connecticut Al-Anon - ECPv6.15.17.1//NONSGML v1.0//EN
CALSCALE:GREGORIAN
METHOD:PUBLISH
X-ORIGINAL-URL:https://ctalanon.org
X-WR-CALDESC:Events for Connecticut Al-Anon
REFRESH-INTERVAL;VALUE=DURATION:PT1H
X-Robots-Tag:noindex
X-PUBLISHED-TTL:PT1H
BEGIN:VTIMEZONE
TZID:America/New_York
BEGIN:DAYLIGHT
TZOFFSETFROM:-0500
TZOFFSETTO:-0400
TZNAME:EDT
DTSTART:20250309T070000
END:DAYLIGHT
BEGIN:STANDARD
TZOFFSETFROM:-0400
TZOFFSETTO:-0500
TZNAME:EST
DTSTART:20251102T060000
END:STANDARD
BEGIN:DAYLIGHT
TZOFFSETFROM:-0500
TZOFFSETTO:-0400
TZNAME:EDT
DTSTART:20260308T070000
END:DAYLIGHT
BEGIN:STANDARD
TZOFFSETFROM:-0400
TZOFFSETTO:-0500
TZNAME:EST
DTSTART:20261101T060000
END:STANDARD
BEGIN:DAYLIGHT
TZOFFSETFROM:-0500
TZOFFSETTO:-0400
TZNAME:EDT
DTSTART:20270314T070000
END:DAYLIGHT
BEGIN:STANDARD
TZOFFSETFROM:-0400
TZOFFSETTO:-0500
TZNAME:EST
DTSTART:20271107T060000
END:STANDARD
END:VTIMEZONE
BEGIN:VEVENT
DTSTART;TZID=America/New_York:20260201T153000
DTEND;TZID=America/New_York:20260201T173000
DTSTAMP:20260421T202728
CREATED:20260107T221934Z
LAST-MODIFIED:20260122T184216Z
UID:2596-1769959800-1769967000@ctalanon.org
SUMMARY:Taller de Reuniones de Al-Anon en Español/Al-Anon Spanish Meetings Workshop
DESCRIPTION:
URL:https://ctalanon.org/event/taller-de-reuniones-de-al-anon-en-espanol-al-anon-spanish-meetings-workshop/
LOCATION:First Baptist Chrurch – Wallingford\, 114 North Main St\, Wallingford\, CT\, United States
CATEGORIES:Al-Anon Events
END:VEVENT
BEGIN:VEVENT
DTSTART;TZID=America/New_York:20260203T183000
DTEND;TZID=America/New_York:20260203T200000
DTSTAMP:20260421T202728
CREATED:20260123T024244Z
LAST-MODIFIED:20260129T163103Z
UID:2623-1770143400-1770148800@ctalanon.org
SUMMARY:Living Our Legacies Al-Anon Family Group First Anniversary
DESCRIPTION:  \n \nLink to flyer
URL:https://ctalanon.org/event/living-our-legacies-al-anon-family-group-first-anniversary/
LOCATION:First Congrational Church – Guilford\, 122 Broad St\, Guilford\, CT\, United States
CATEGORIES:Al-Anon Events
END:VEVENT
BEGIN:VEVENT
DTSTART;TZID=America/New_York:20260213T190000
DTEND;TZID=America/New_York:20260213T200000
DTSTAMP:20260421T202728
CREATED:20260102T204839Z
LAST-MODIFIED:20260102T204859Z
UID:2557-1771009200-1771012800@ctalanon.org
SUMMARY:CT AWSC Agenda Meeting
DESCRIPTION:Set meeting agenda for March 6th Area meeting
URL:https://ctalanon.org/event/ct-awsc-agenda-meeting-4/
LOCATION:CT
CATEGORIES:CT Area Event
END:VEVENT
END:VCALENDAR