BEGIN:VCALENDAR
VERSION:2.0
PRODID:-//Connecticut Al-Anon - ECPv6.15.17.1//NONSGML v1.0//EN
CALSCALE:GREGORIAN
METHOD:PUBLISH
X-WR-CALNAME:Connecticut Al-Anon
X-ORIGINAL-URL:https://ctalanon.org
X-WR-CALDESC:Events for Connecticut Al-Anon
REFRESH-INTERVAL;VALUE=DURATION:PT1H
X-Robots-Tag:noindex
X-PUBLISHED-TTL:PT1H
BEGIN:VTIMEZONE
TZID:America/New_York
BEGIN:DAYLIGHT
TZOFFSETFROM:-0500
TZOFFSETTO:-0400
TZNAME:EDT
DTSTART:20250309T070000
END:DAYLIGHT
BEGIN:STANDARD
TZOFFSETFROM:-0400
TZOFFSETTO:-0500
TZNAME:EST
DTSTART:20251102T060000
END:STANDARD
BEGIN:DAYLIGHT
TZOFFSETFROM:-0500
TZOFFSETTO:-0400
TZNAME:EDT
DTSTART:20260308T070000
END:DAYLIGHT
BEGIN:STANDARD
TZOFFSETFROM:-0400
TZOFFSETTO:-0500
TZNAME:EST
DTSTART:20261101T060000
END:STANDARD
BEGIN:DAYLIGHT
TZOFFSETFROM:-0500
TZOFFSETTO:-0400
TZNAME:EDT
DTSTART:20270314T070000
END:DAYLIGHT
BEGIN:STANDARD
TZOFFSETFROM:-0400
TZOFFSETTO:-0500
TZNAME:EST
DTSTART:20271107T060000
END:STANDARD
END:VTIMEZONE
BEGIN:VEVENT
DTSTART;TZID=America/New_York:20260520T093000
DTEND;TZID=America/New_York:20260520T113000
DTSTAMP:20260421T203937
CREATED:20260417T200022Z
LAST-MODIFIED:20260417T200022Z
UID:2735-1779269400-1779276600@ctalanon.org
SUMMARY:Woodbury Wednesday Morning Al-Anon Family Group 52nd Anniversary Celebration
DESCRIPTION:Link to flyer
URL:https://ctalanon.org/event/woodbury-wednesday-morning-al-anon-family-group-52nd-anniversary-celebration/
LOCATION:St Paul’s Episcopal Church – Woodbury\, 294 Main Street\, Woodbury\, CT\, United States
CATEGORIES:Al-Anon Events
END:VEVENT
END:VCALENDAR