BEGIN:VCALENDAR
VERSION:2.0
PRODID:-//Connecticut Al-Anon - ECPv6.15.17.1//NONSGML v1.0//EN
CALSCALE:GREGORIAN
METHOD:PUBLISH
X-ORIGINAL-URL:https://ctalanon.org
X-WR-CALDESC:Events for Connecticut Al-Anon
REFRESH-INTERVAL;VALUE=DURATION:PT1H
X-Robots-Tag:noindex
X-PUBLISHED-TTL:PT1H
BEGIN:VTIMEZONE
TZID:America/New_York
BEGIN:DAYLIGHT
TZOFFSETFROM:-0500
TZOFFSETTO:-0400
TZNAME:EDT
DTSTART:20250309T070000
END:DAYLIGHT
BEGIN:STANDARD
TZOFFSETFROM:-0400
TZOFFSETTO:-0500
TZNAME:EST
DTSTART:20251102T060000
END:STANDARD
BEGIN:DAYLIGHT
TZOFFSETFROM:-0500
TZOFFSETTO:-0400
TZNAME:EDT
DTSTART:20260308T070000
END:DAYLIGHT
BEGIN:STANDARD
TZOFFSETFROM:-0400
TZOFFSETTO:-0500
TZNAME:EST
DTSTART:20261101T060000
END:STANDARD
BEGIN:DAYLIGHT
TZOFFSETFROM:-0500
TZOFFSETTO:-0400
TZNAME:EDT
DTSTART:20270314T070000
END:DAYLIGHT
BEGIN:STANDARD
TZOFFSETFROM:-0400
TZOFFSETTO:-0500
TZNAME:EST
DTSTART:20271107T060000
END:STANDARD
END:VTIMEZONE
BEGIN:VEVENT
DTSTART;TZID=America/New_York:20260415T190000
DTEND;TZID=America/New_York:20260415T210000
DTSTAMP:20260421T190416
CREATED:20260329T221132Z
LAST-MODIFIED:20260329T221132Z
UID:2706-1776279600-1776286800@ctalanon.org
SUMMARY:Westport Men’s AL-ANON 50th Anniversary Meeting
DESCRIPTION:Link to flyer
URL:https://ctalanon.org/event/westport-mens-al-anon-50th-anniversary-meeting/
LOCATION:Christ & Holy Trinity Church – Westport\, Church Lane\, Westport\, 06880\, United States
CATEGORIES:Al-Anon Events
END:VEVENT
END:VCALENDAR